Workbook

Sheet คำอธิบาย
A1: 1. กรอกคะแนน ก่อนเรียนและหลังเรียน ตามจำนวนนักเรียน
A2: 2. หากมีนักเรียนไม่ถึงให้ลบข้อมูลทิ้งทุก Sheet (ที่มีค่าเป็น 0 และข้อมูล หลังนั้น)
A3: 3. หากไม่พอให้แทรกแถวระหว่างแถวสุดท้าย
A4: 4. ทำการคัดลอกข้อมูลจนถึงจำนวนนักเรียนทุก Sheet
A5: 5. ใช้ข้อมูลที่สรุปไว้

Sheet กรอกคะแนน
A1: คะแนนก่อนเรียน-หลังเรียน
A2: ที่ | B2: คะแนนก่อนเรียน | D2: คะแนนหลังเรียน
B3: X1 | C3: X12 | D3: X2 | E3: X22
A4: 1 | B4: 82 | C4: =B4*B4 -> 6724 | D4: 91 | E4: =D4*D4 -> 8281
A5: 2 | B5: 83 | C5: =B5*B5 -> 6889 | D5: 91 | E5: =D5*D5 -> 8281
A6: 3 | B6: 83 | C6: =B6*B6 -> 6889 | D6: 92 | E6: =D6*D6 -> 8464
A7: 4 | B7: 83 | C7: =B7*B7 -> 6889 | D7: 89 | E7: =D7*D7 -> 7921
A8: 5 | B8: 81 | C8: =B8*B8 -> 6561 | D8: 88 | E8: =D8*D8 -> 7744
A9: 6 | B9: 83 | C9: =B9*B9 -> 6889 | D9: 90 | E9: =D9*D9 -> 8100
A10: 7 | B10: 81 | C10: =B10*B10 -> 6561 | D10: 87 | E10: =D10*D10 -> 7569
A11: 8 | B11: 83 | C11: =B11*B11 -> 6889 | D11: 91 | E11: =D11*D11 -> 8281
A12: 9 | B12: 82 | C12: =B12*B12 -> 6724 | D12: 89 | E12: =D12*D12 -> 7921
A13: 10 | B13: 82 | C13: =B13*B13 -> 6724 | D13: 87 | E13: =D13*D13 -> 7569
A14: 11 | B14: 82 | C14: =B14*B14 -> 6724 | D14: 91 | E14: =D14*D14 -> 8281
A15: 12 | B15: 84 | C15: =B15*B15 -> 7056 | D15: 91 | E15: =D15*D15 -> 8281
... A69: 66 | B69: 82 | C69: =B69*B69 -> 6724 | D69: 87 | E69: =D69*D69 -> 7569
A70: 67 | D70: 82 | E70: =D70*D70 -> 6724
A71: 68 | D71: 83 | E71: =D71*D71 -> 6889
A72: 69 | D72: 81 | E72: =D72*D72 -> 6561
A73: 70 | D73: 82 | E73: =D73*D73 -> 6724
A74: 71 | D74: 82 | E74: =D74*D74 -> 6724
A75: 72 | D75: 83 | E75: =D75*D75 -> 6889
A76: 73 | D76: 81 | E76: =D76*D76 -> 6561
A77: 74 | D77: 82 | E77: =D77*D77 -> 6724
A78: 75 | D78: 85 | E78: =D78*D78 -> 7225
A79: 76 | D79: 81 | E79: =D79*D79 -> 6561
A80: 77 | D80: 81 | E80: =D80*D80 -> 6561
A81: 78 | D81: 83 | E81: =D81*D81 -> 6889
... A93: 90 | D93: 83 | E93: =D93*D93 -> 6889
A94: 91 | C94: =B94*B94 -> 0 | D94: 84 | E94: =D94*D94 -> 7056
A95: 92 | C95: =B95*B95 -> 0 | D95: 83 | E95: =D95*D95 -> 6889
A96: 93 | C96: =B96*B96 -> 0 | D96: 82 | E96: =D96*D96 -> 6724
A97: 94 | C97: =B97*B97 -> 0 | D97: 84 | E97: =D97*D97 -> 7056
A98: 95 | C98: =B98*B98 -> 0 | D98: 85 | E98: =D98*D98 -> 7225
A99: 96 | C99: =B99*B99 -> 0 | D99: 82 | E99: =D99*D99 -> 6724
A100: 97 | C100: =B100*B100 -> 0 | D100: 87 | E100: =D100*D100 -> 7569
A101: 98 | C101: =B101*B101 -> 0 | E101: =D101*D101 -> 0
A102: 99 | C102: =B102*B102 -> 0 | E102: =D102*D102 -> 0
A103: 100 | C103: =B103*B103 -> 0 | E103: =D103*D103 -> 0
A104: 101 | C104: =B104*B104 -> 0 | E104: =D104*D104 -> 0
A105: 102 | C105: =B105*B105 -> 0 | E105: =D105*D105 -> 0
A106: 103 | C106: =B106*B106 -> 0 | E106: =D106*D106 -> 0
A107: 104 | C107: =B107*B107 -> 0 | E107: =D107*D107 -> 0
A108: 105 | C108: =B108*B108 -> 0 | E108: =D108*D108 -> 0
A109: 106 | C109: =B109*B109 -> 0 | E109: =D109*D109 -> 0
A110: 107 | C110: =B110*B110 -> 0 | E110: =D110*D110 -> 0

Sheet ข้อ1sum
A1: คะแนนก่อนเรียน-หลังเรียน
A2: ที่ | B2: คะแนนก่อนเรียน | D2: คะแนนหลังเรียน
B3: X1 | C3: X12 | D3: X2 | E3: X22
A4: 1 | B4: =กรอกคะแนน!B4 -> 82 | C4: =B4*B4 -> 6724 | D4: =กรอกคะแนน!D4 -> 91 | E4: =D4*D4 -> 8281
A5: 2 | B5: =กรอกคะแนน!B5 -> 83 | C5: =B5*B5 -> 6889 | D5: =กรอกคะแนน!D5 -> 91 | E5: =D5*D5 -> 8281
A6: 3 | B6: =กรอกคะแนน!B6 -> 83 | C6: =B6*B6 -> 6889 | D6: =กรอกคะแนน!D6 -> 92 | E6: =D6*D6 -> 8464
A7: 4 | B7: =กรอกคะแนน!B7 -> 83 | C7: =B7*B7 -> 6889 | D7: =กรอกคะแนน!D7 -> 89 | E7: =D7*D7 -> 7921
A8: 5 | B8: =กรอกคะแนน!B8 -> 81 | C8: =B8*B8 -> 6561 | D8: =กรอกคะแนน!D8 -> 88 | E8: =D8*D8 -> 7744
A9: 6 | B9: =กรอกคะแนน!B9 -> 83 | C9: =B9*B9 -> 6889 | D9: =กรอกคะแนน!D9 -> 90 | E9: =D9*D9 -> 8100
A10: 7 | B10: =กรอกคะแนน!B10 -> 81 | C10: =B10*B10 -> 6561 | D10: =กรอกคะแนน!D10 -> 87 | E10: =D10*D10 -> 7569
A11: 8 | B11: =กรอกคะแนน!B11 -> 83 | C11: =B11*B11 -> 6889 | D11: =กรอกคะแนน!D11 -> 91 | E11: =D11*D11 -> 8281
A12: 9 | B12: =กรอกคะแนน!B12 -> 82 | C12: =B12*B12 -> 6724 | D12: =กรอกคะแนน!D12 -> 89 | E12: =D12*D12 -> 7921
A13: 10 | B13: =กรอกคะแนน!B13 -> 82 | C13: =B13*B13 -> 6724 | D13: =กรอกคะแนน!D13 -> 87 | E13: =D13*D13 -> 7569
A14: 11 | B14: =กรอกคะแนน!B14 -> 82 | C14: =B14*B14 -> 6724 | D14: =กรอกคะแนน!D14 -> 91 | E14: =D14*D14 -> 8281
A15: 12 | B15: =กรอกคะแนน!B15 -> 84 | C15: =B15*B15 -> 7056 | D15: =กรอกคะแนน!D15 -> 91 | E15: =D15*D15 -> 8281
... A110: 107 | B110: =กรอกคะแนน!B110 -> 0 | C110: =B110*B110 -> 0 | D110: =กรอกคะแนน!D110 -> 0 | E110: =D110*D110 -> 0
A111: sum | B111: =SUM(B4:B110) -> 5330 | C111: =SUM(C4:C110) -> 431380 | D111: =SUM(D4:D110) -> 8440 | E111: =SUM(E4:E110) -> 735538

Sheet ข้อ2avg
A1: คะแนนก่อนเรียน-หลังเรียน
A2: ที่ | B2: คะแนนก่อนเรียน | D2: คะแนนหลังเรียน
B3: X1 | C3: X12 | D3: X2 | E3: X22
A4: 1 | B4: =กรอกคะแนน!B4 -> 82 | C4: =B4*B4 -> 6724 | D4: =กรอกคะแนน!D4 -> 91 | E4: =D4*D4 -> 8281
A5: 2 | B5: =กรอกคะแนน!B5 -> 83 | C5: =B5*B5 -> 6889 | D5: =กรอกคะแนน!D5 -> 91 | E5: =D5*D5 -> 8281
A6: 3 | B6: =กรอกคะแนน!B6 -> 83 | C6: =B6*B6 -> 6889 | D6: =กรอกคะแนน!D6 -> 92 | E6: =D6*D6 -> 8464
A7: 4 | B7: =กรอกคะแนน!B7 -> 83 | C7: =B7*B7 -> 6889 | D7: =กรอกคะแนน!D7 -> 89 | E7: =D7*D7 -> 7921
A8: 5 | B8: =กรอกคะแนน!B8 -> 81 | C8: =B8*B8 -> 6561 | D8: =กรอกคะแนน!D8 -> 88 | E8: =D8*D8 -> 7744
A9: 6 | B9: =กรอกคะแนน!B9 -> 83 | C9: =B9*B9 -> 6889 | D9: =กรอกคะแนน!D9 -> 90 | E9: =D9*D9 -> 8100
A10: 7 | B10: =กรอกคะแนน!B10 -> 81 | C10: =B10*B10 -> 6561 | D10: =กรอกคะแนน!D10 -> 87 | E10: =D10*D10 -> 7569
A11: 8 | B11: =กรอกคะแนน!B11 -> 83 | C11: =B11*B11 -> 6889 | D11: =กรอกคะแนน!D11 -> 91 | E11: =D11*D11 -> 8281
A12: 9 | B12: =กรอกคะแนน!B12 -> 82 | C12: =B12*B12 -> 6724 | D12: =กรอกคะแนน!D12 -> 89 | E12: =D12*D12 -> 7921
A13: 10 | B13: =กรอกคะแนน!B13 -> 82 | C13: =B13*B13 -> 6724 | D13: =กรอกคะแนน!D13 -> 87 | E13: =D13*D13 -> 7569
A14: 11 | B14: =กรอกคะแนน!B14 -> 82 | C14: =B14*B14 -> 6724 | D14: =กรอกคะแนน!D14 -> 91 | E14: =D14*D14 -> 8281
A15: 12 | B15: =กรอกคะแนน!B15 -> 84 | C15: =B15*B15 -> 7056 | D15: =กรอกคะแนน!D15 -> 91 | E15: =D15*D15 -> 8281
... A69: 66 | B69: =กรอกคะแนน!B69 -> 82 | C69: =B69*B69 -> 6724 | D69: =กรอกคะแนน!D69 -> 87 | E69: =D69*D69 -> 7569
A70: 67 | C70: =B70*B70 -> 0 | D70: =กรอกคะแนน!D70 -> 82 | E70: =D70*D70 -> 6724
A71: 68 | C71: =B71*B71 -> 0 | D71: =กรอกคะแนน!D71 -> 83 | E71: =D71*D71 -> 6889
A72: 69 | C72: =B72*B72 -> 0 | D72: =กรอกคะแนน!D72 -> 81 | E72: =D72*D72 -> 6561
A73: 70 | C73: =B73*B73 -> 0 | D73: =กรอกคะแนน!D73 -> 82 | E73: =D73*D73 -> 6724
A74: 71 | C74: =B74*B74 -> 0 | D74: =กรอกคะแนน!D74 -> 82 | E74: =D74*D74 -> 6724
A75: 72 | C75: =B75*B75 -> 0 | D75: =กรอกคะแนน!D75 -> 83 | E75: =D75*D75 -> 6889
A76: 73 | C76: =B76*B76 -> 0 | D76: =กรอกคะแนน!D76 -> 81 | E76: =D76*D76 -> 6561
A77: 74 | C77: =B77*B77 -> 0 | D77: =กรอกคะแนน!D77 -> 82 | E77: =D77*D77 -> 6724
A78: 75 | C78: =B78*B78 -> 0 | D78: =กรอกคะแนน!D78 -> 85 | E78: =D78*D78 -> 7225
A79: 76 | C79: =B79*B79 -> 0 | D79: =กรอกคะแนน!D79 -> 81 | E79: =D79*D79 -> 6561
A80: 77 | C80: =B80*B80 -> 0 | D80: =กรอกคะแนน!D80 -> 81 | E80: =D80*D80 -> 6561
A81: 78 | C81: =B81*B81 -> 0 | D81: =กรอกคะแนน!D81 -> 83 | E81: =D81*D81 -> 6889
... A100: 97 | C100: =B100*B100 -> 0 | D100: =กรอกคะแนน!D100 -> 87 | E100: =D100*D100 -> 7569
A101: 98 | C101: =B101*B101 -> 0 | E101: =D101*D101 -> 0
A102: 99 | C102: =B102*B102 -> 0 | E102: =D102*D102 -> 0
A103: 100 | C103: =B103*B103 -> 0 | E103: =D103*D103 -> 0
A104: 101 | C104: =B104*B104 -> 0 | E104: =D104*D104 -> 0
A105: 102 | C105: =B105*B105 -> 0 | E105: =D105*D105 -> 0
A106: 103 | C106: =B106*B106 -> 0 | E106: =D106*D106 -> 0
A107: 104 | C107: =B107*B107 -> 0 | E107: =D107*D107 -> 0
A108: 105 | C108: =B108*B108 -> 0 | E108: =D108*D108 -> 0
A109: 106 | C109: =B109*B109 -> 0 | E109: =D109*D109 -> 0
A110: 107 | C110: =B110*B110 -> 0 | E110: =D110*D110 -> 0
A111: 108 | C111: =B111*B111 -> 0 | E111: =D111*D111 -> 0
A112: sum | B112: =SUM(B4:B111) -> 5330 | C112: =SUM(C4:C111) -> 431380 | D112: =SUM(D4:D111) -> 8440 | E112: =SUM(E4:E111) -> 735538
A113: count1 | B113: =COUNT(B4:B111) -> 66
A114: count2 | B114: =COUNT(D4:D111) -> 97
A115: count | B115: =B113+B114 -> 163
A116: avg | B116: =(B112+D112)/B115 -> 84.478528

Sheet ข้อ3sd
A1: คะแนนก่อนเรียน-หลังเรียน
A2: ที่ | B2: คะแนนก่อนเรียน | D2: คะแนนหลังเรียน
B3: X1 | C3: X12 | D3: X2 | E3: X22
A4: 1 | B4: =กรอกคะแนน!B4 -> 82 | C4: =B4*B4 -> 6724 | D4: =กรอกคะแนน!D4 -> 91 | E4: =D4*D4 -> 8281
A5: 2 | B5: =กรอกคะแนน!B5 -> 83 | C5: =B5*B5 -> 6889 | D5: =กรอกคะแนน!D5 -> 91 | E5: =D5*D5 -> 8281
A6: 3 | B6: =กรอกคะแนน!B6 -> 83 | C6: =B6*B6 -> 6889 | D6: =กรอกคะแนน!D6 -> 92 | E6: =D6*D6 -> 8464
A7: 4 | B7: =กรอกคะแนน!B7 -> 83 | C7: =B7*B7 -> 6889 | D7: =กรอกคะแนน!D7 -> 89 | E7: =D7*D7 -> 7921
A8: 5 | B8: =กรอกคะแนน!B8 -> 81 | C8: =B8*B8 -> 6561 | D8: =กรอกคะแนน!D8 -> 88 | E8: =D8*D8 -> 7744
A9: 6 | B9: =กรอกคะแนน!B9 -> 83 | C9: =B9*B9 -> 6889 | D9: =กรอกคะแนน!D9 -> 90 | E9: =D9*D9 -> 8100
A10: 7 | B10: =กรอกคะแนน!B10 -> 81 | C10: =B10*B10 -> 6561 | D10: =กรอกคะแนน!D10 -> 87 | E10: =D10*D10 -> 7569
A11: 8 | B11: =กรอกคะแนน!B11 -> 83 | C11: =B11*B11 -> 6889 | D11: =กรอกคะแนน!D11 -> 91 | E11: =D11*D11 -> 8281
A12: 9 | B12: =กรอกคะแนน!B12 -> 82 | C12: =B12*B12 -> 6724 | D12: =กรอกคะแนน!D12 -> 89 | E12: =D12*D12 -> 7921
A13: 10 | B13: =กรอกคะแนน!B13 -> 82 | C13: =B13*B13 -> 6724 | D13: =กรอกคะแนน!D13 -> 87 | E13: =D13*D13 -> 7569
A14: 11 | B14: =กรอกคะแนน!B14 -> 82 | C14: =B14*B14 -> 6724 | D14: =กรอกคะแนน!D14 -> 91 | E14: =D14*D14 -> 8281
A15: 12 | B15: =กรอกคะแนน!B15 -> 84 | C15: =B15*B15 -> 7056 | D15: =กรอกคะแนน!D15 -> 91 | E15: =D15*D15 -> 8281
... A69: 66 | B69: =กรอกคะแนน!B69 -> 82 | C69: =B69*B69 -> 6724 | D69: =กรอกคะแนน!D69 -> 87 | E69: =D69*D69 -> 7569
A70: 67 | C70: =B70*B70 -> 0 | D70: =กรอกคะแนน!D70 -> 82 | E70: =D70*D70 -> 6724
A71: 68 | C71: =B71*B71 -> 0 | D71: =กรอกคะแนน!D71 -> 83 | E71: =D71*D71 -> 6889
A72: 69 | C72: =B72*B72 -> 0 | D72: =กรอกคะแนน!D72 -> 81 | E72: =D72*D72 -> 6561
A73: 70 | C73: =B73*B73 -> 0 | D73: =กรอกคะแนน!D73 -> 82 | E73: =D73*D73 -> 6724
A74: 71 | C74: =B74*B74 -> 0 | D74: =กรอกคะแนน!D74 -> 82 | E74: =D74*D74 -> 6724
A75: 72 | C75: =B75*B75 -> 0 | D75: =กรอกคะแนน!D75 -> 83 | E75: =D75*D75 -> 6889
A76: 73 | C76: =B76*B76 -> 0 | D76: =กรอกคะแนน!D76 -> 81 | E76: =D76*D76 -> 6561
A77: 74 | C77: =B77*B77 -> 0 | D77: =กรอกคะแนน!D77 -> 82 | E77: =D77*D77 -> 6724
A78: 75 | C78: =B78*B78 -> 0 | D78: =กรอกคะแนน!D78 -> 85 | E78: =D78*D78 -> 7225
A79: 76 | C79: =B79*B79 -> 0 | D79: =กรอกคะแนน!D79 -> 81 | E79: =D79*D79 -> 6561
A80: 77 | C80: =B80*B80 -> 0 | D80: =กรอกคะแนน!D80 -> 81 | E80: =D80*D80 -> 6561
A81: 78 | C81: =B81*B81 -> 0 | D81: =กรอกคะแนน!D81 -> 83 | E81: =D81*D81 -> 6889
... A100: 97 | C100: =B100*B100 -> 0 | D100: =กรอกคะแนน!D100 -> 87 | E100: =D100*D100 -> 7569
A101: 98 | C101: =B101*B101 -> 0 | E101: =D101*D101 -> 0
A102: 99 | C102: =B102*B102 -> 0 | E102: =D102*D102 -> 0
A103: 100 | C103: =B103*B103 -> 0 | E103: =D103*D103 -> 0
A104: 101 | C104: =B104*B104 -> 0 | E104: =D104*D104 -> 0
A105: 102 | C105: =B105*B105 -> 0 | E105: =D105*D105 -> 0
A106: 103 | C106: =B106*B106 -> 0 | E106: =D106*D106 -> 0
A107: sum | B107: =SUM(B4:B106) -> 5330 | C107: =SUM(C4:C106) -> 431380 | D107: =SUM(D4:D106) -> 8440 | E107: =SUM(E4:E106) -> 735538
A108: npre | B108: =COUNT(B4:B106) -> 66
A109: npost | B109: =COUNT(D4:D106) -> 97
A110: n | B110: =B108+B109 -> 163
A111: avg | B111: =(B107+D107)/B110 -> 84.478528
A114: หาค่า SD =
B117: =C107+E107 -> 1166918
B120: =(B107+D107)^2 -> 189612900
A122: SD= | B122: =SQRT(((B110*B117)-B120)/(B110*(B110-1))) -> 4.745807

Sheet ข้อ4z
A1: หาค่า Z
A3: สูตร Z =
A6: ที่ | B6: คะแนนก่อนเรียน | D6: คะแนนหลังเรียน
B7: X1 | C7: Z | D7: X2 | E7: Z
A8: 1 | B8: =กรอกคะแนน!B4 -> 82 | C8: =(B8-ข้อ2avg!$B$116)/ข้อ3sd!$B$122 -> -0.5222563 | D8: =กรอกคะแนน!D4 -> 91 | E8: =(D8-ข้อ2avg!$B$116)/ข้อ3sd!$B$122 -> 1.3741546
A9: 2 | B9: =กรอกคะแนน!B5 -> 83 | C9: =(B9-ข้อ2avg!$B$116)/ข้อ3sd!$B$122 -> -0.31154398 | D9: =กรอกคะแนน!D5 -> 91 | E9: =(D9-ข้อ2avg!$B$116)/ข้อ3sd!$B$122 -> 1.3741546
A10: 3 | B10: =กรอกคะแนน!B6 -> 83 | C10: =(B10-ข้อ2avg!$B$116)/ข้อ3sd!$B$122 -> -0.31154398 | D10: =กรอกคะแนน!D6 -> 92 | E10: =(D10-ข้อ2avg!$B$116)/ข้อ3sd!$B$122 -> 1.5848669
A11: 4 | B11: =กรอกคะแนน!B7 -> 83 | C11: =(B11-ข้อ2avg!$B$116)/ข้อ3sd!$B$122 -> -0.31154398 | D11: =กรอกคะแนน!D7 -> 89 | E11: =(D11-ข้อ2avg!$B$116)/ข้อ3sd!$B$122 -> 0.95272993
A12: 5 | B12: =กรอกคะแนน!B8 -> 81 | C12: =(B12-ข้อ2avg!$B$116)/ข้อ3sd!$B$122 -> -0.73296862 | D12: =กรอกคะแนน!D8 -> 88 | E12: =(D12-ข้อ2avg!$B$116)/ข้อ3sd!$B$122 -> 0.74201761
A13: 6 | B13: =กรอกคะแนน!B9 -> 83 | C13: =(B13-ข้อ2avg!$B$116)/ข้อ3sd!$B$122 -> -0.31154398 | D13: =กรอกคะแนน!D9 -> 90 | E13: =(D13-ข้อ2avg!$B$116)/ข้อ3sd!$B$122 -> 1.1634422
A14: 7 | B14: =กรอกคะแนน!B10 -> 81 | C14: =(B14-ข้อ2avg!$B$116)/ข้อ3sd!$B$122 -> -0.73296862 | D14: =กรอกคะแนน!D10 -> 87 | E14: =(D14-ข้อ2avg!$B$116)/ข้อ3sd!$B$122 -> 0.53130529
A15: 8 | B15: =กรอกคะแนน!B11 -> 83 | C15: =(B15-ข้อ2avg!$B$116)/ข้อ3sd!$B$122 -> -0.31154398 | D15: =กรอกคะแนน!D11 -> 91 | E15: =(D15-ข้อ2avg!$B$116)/ข้อ3sd!$B$122 -> 1.3741546
A16: 9 | B16: =กรอกคะแนน!B12 -> 82 | C16: =(B16-ข้อ2avg!$B$116)/ข้อ3sd!$B$122 -> -0.5222563 | D16: =กรอกคะแนน!D12 -> 89 | E16: =(D16-ข้อ2avg!$B$116)/ข้อ3sd!$B$122 -> 0.95272993
A17: 10 | B17: =กรอกคะแนน!B13 -> 82 | C17: =(B17-ข้อ2avg!$B$116)/ข้อ3sd!$B$122 -> -0.5222563 | D17: =กรอกคะแนน!D13 -> 87 | E17: =(D17-ข้อ2avg!$B$116)/ข้อ3sd!$B$122 -> 0.53130529
A18: 11 | B18: =กรอกคะแนน!B14 -> 82 | C18: =(B18-ข้อ2avg!$B$116)/ข้อ3sd!$B$122 -> -0.5222563 | D18: =กรอกคะแนน!D14 -> 91 | E18: =(D18-ข้อ2avg!$B$116)/ข้อ3sd!$B$122 -> 1.3741546
A19: 12 | B19: =กรอกคะแนน!B15 -> 84 | C19: =(B19-ข้อ2avg!$B$116)/ข้อ3sd!$B$122 -> -0.10083166 | D19: =กรอกคะแนน!D15 -> 91 | E19: =(D19-ข้อ2avg!$B$116)/ข้อ3sd!$B$122 -> 1.3741546
... A73: 66 | B73: =กรอกคะแนน!B69 -> 82 | C73: =(B73-ข้อ2avg!$B$116)/ข้อ3sd!$B$122 -> -0.5222563 | D73: =กรอกคะแนน!D69 -> 87 | E73: =(D73-ข้อ2avg!$B$116)/ข้อ3sd!$B$122 -> 0.53130529
A74: 67 | D74: =กรอกคะแนน!D70 -> 82 | E74: =(D74-ข้อ2avg!$B$116)/ข้อ3sd!$B$122 -> -0.5222563
A75: 68 | D75: =กรอกคะแนน!D71 -> 83 | E75: =(D75-ข้อ2avg!$B$116)/ข้อ3sd!$B$122 -> -0.31154398
A76: 69 | D76: =กรอกคะแนน!D72 -> 81 | E76: =(D76-ข้อ2avg!$B$116)/ข้อ3sd!$B$122 -> -0.73296862
A77: 70 | D77: =กรอกคะแนน!D73 -> 82 | E77: =(D77-ข้อ2avg!$B$116)/ข้อ3sd!$B$122 -> -0.5222563
A78: 71 | D78: =กรอกคะแนน!D74 -> 82 | E78: =(D78-ข้อ2avg!$B$116)/ข้อ3sd!$B$122 -> -0.5222563
A79: 72 | D79: =กรอกคะแนน!D75 -> 83 | E79: =(D79-ข้อ2avg!$B$116)/ข้อ3sd!$B$122 -> -0.31154398
A80: 73 | D80: =กรอกคะแนน!D76 -> 81 | E80: =(D80-ข้อ2avg!$B$116)/ข้อ3sd!$B$122 -> -0.73296862
A81: 74 | D81: =กรอกคะแนน!D77 -> 82 | E81: =(D81-ข้อ2avg!$B$116)/ข้อ3sd!$B$122 -> -0.5222563
A82: 75 | D82: =กรอกคะแนน!D78 -> 85 | E82: =(D82-ข้อ2avg!$B$116)/ข้อ3sd!$B$122 -> 0.10988066
A83: 76 | D83: =กรอกคะแนน!D79 -> 81 | E83: =(D83-ข้อ2avg!$B$116)/ข้อ3sd!$B$122 -> -0.73296862
A84: 77 | D84: =กรอกคะแนน!D80 -> 81 | E84: =(D84-ข้อ2avg!$B$116)/ข้อ3sd!$B$122 -> -0.73296862
A85: 78 | D85: =กรอกคะแนน!D81 -> 83 | E85: =(D85-ข้อ2avg!$B$116)/ข้อ3sd!$B$122 -> -0.31154398
... A104: 97 | D104: =กรอกคะแนน!D100 -> 87 | E104: =(D104-ข้อ2avg!$B$116)/ข้อ3sd!$B$122 -> 0.53130529
A105: 98
A106: 99
A107: 100
A108: 101
A109: 102
A110: 103
A111: 104
A112: 105
A113: 106
A114: 107
A115: 108

Sheet ข้อ5T
A1: หาค่า T
A3: สูตร T = | B3: 50+10Z
A6: ที่ | B6: คะแนนก่อนเรียน | E6: คะแนนหลังเรียน
B7: X1 | C7: Z | D7: T | E7: X2 | F7: Z | G7: T
A8: 1 | B8: =กรอกคะแนน!B4 -> 82 | C8: =(B8-ข้อ2avg!$B$116)/ข้อ3sd!$B$122 -> -0.5222563 | D8: =50+(10*C8) -> 44.777437 | E8: =กรอกคะแนน!D4 -> 91 | F8: =(E8-ข้อ2avg!$B$116)/ข้อ3sd!$B$122 -> 1.3741546 | G8: =50+(10*F8) -> 63.741546
A9: 2 | B9: =กรอกคะแนน!B5 -> 83 | C9: =(B9-ข้อ2avg!$B$116)/ข้อ3sd!$B$122 -> -0.31154398 | D9: =50+(10*C9) -> 46.88456 | E9: =กรอกคะแนน!D5 -> 91 | F9: =(E9-ข้อ2avg!$B$116)/ข้อ3sd!$B$122 -> 1.3741546 | G9: =50+(10*F9) -> 63.741546
A10: 3 | B10: =กรอกคะแนน!B6 -> 83 | C10: =(B10-ข้อ2avg!$B$116)/ข้อ3sd!$B$122 -> -0.31154398 | D10: =50+(10*C10) -> 46.88456 | E10: =กรอกคะแนน!D6 -> 92 | F10: =(E10-ข้อ2avg!$B$116)/ข้อ3sd!$B$122 -> 1.5848669 | G10: =50+(10*F10) -> 65.848669
A11: 4 | B11: =กรอกคะแนน!B7 -> 83 | C11: =(B11-ข้อ2avg!$B$116)/ข้อ3sd!$B$122 -> -0.31154398 | D11: =50+(10*C11) -> 46.88456 | E11: =กรอกคะแนน!D7 -> 89 | F11: =(E11-ข้อ2avg!$B$116)/ข้อ3sd!$B$122 -> 0.95272993 | G11: =50+(10*F11) -> 59.527299
A12: 5 | B12: =กรอกคะแนน!B8 -> 81 | C12: =(B12-ข้อ2avg!$B$116)/ข้อ3sd!$B$122 -> -0.73296862 | D12: =50+(10*C12) -> 42.670314 | E12: =กรอกคะแนน!D8 -> 88 | F12: =(E12-ข้อ2avg!$B$116)/ข้อ3sd!$B$122 -> 0.74201761 | G12: =50+(10*F12) -> 57.420176
A13: 6 | B13: =กรอกคะแนน!B9 -> 83 | C13: =(B13-ข้อ2avg!$B$116)/ข้อ3sd!$B$122 -> -0.31154398 | D13: =50+(10*C13) -> 46.88456 | E13: =กรอกคะแนน!D9 -> 90 | F13: =(E13-ข้อ2avg!$B$116)/ข้อ3sd!$B$122 -> 1.1634422 | G13: =50+(10*F13) -> 61.634422
A14: 7 | B14: =กรอกคะแนน!B10 -> 81 | C14: =(B14-ข้อ2avg!$B$116)/ข้อ3sd!$B$122 -> -0.73296862 | D14: =50+(10*C14) -> 42.670314 | E14: =กรอกคะแนน!D10 -> 87 | F14: =(E14-ข้อ2avg!$B$116)/ข้อ3sd!$B$122 -> 0.53130529 | G14: =50+(10*F14) -> 55.313053
A15: 8 | B15: =กรอกคะแนน!B11 -> 83 | C15: =(B15-ข้อ2avg!$B$116)/ข้อ3sd!$B$122 -> -0.31154398 | D15: =50+(10*C15) -> 46.88456 | E15: =กรอกคะแนน!D11 -> 91 | F15: =(E15-ข้อ2avg!$B$116)/ข้อ3sd!$B$122 -> 1.3741546 | G15: =50+(10*F15) -> 63.741546
A16: 9 | B16: =กรอกคะแนน!B12 -> 82 | C16: =(B16-ข้อ2avg!$B$116)/ข้อ3sd!$B$122 -> -0.5222563 | D16: =50+(10*C16) -> 44.777437 | E16: =กรอกคะแนน!D12 -> 89 | F16: =(E16-ข้อ2avg!$B$116)/ข้อ3sd!$B$122 -> 0.95272993 | G16: =50+(10*F16) -> 59.527299
A17: 10 | B17: =กรอกคะแนน!B13 -> 82 | C17: =(B17-ข้อ2avg!$B$116)/ข้อ3sd!$B$122 -> -0.5222563 | D17: =50+(10*C17) -> 44.777437 | E17: =กรอกคะแนน!D13 -> 87 | F17: =(E17-ข้อ2avg!$B$116)/ข้อ3sd!$B$122 -> 0.53130529 | G17: =50+(10*F17) -> 55.313053
A18: 11 | B18: =กรอกคะแนน!B14 -> 82 | C18: =(B18-ข้อ2avg!$B$116)/ข้อ3sd!$B$122 -> -0.5222563 | D18: =50+(10*C18) -> 44.777437 | E18: =กรอกคะแนน!D14 -> 91 | F18: =(E18-ข้อ2avg!$B$116)/ข้อ3sd!$B$122 -> 1.3741546 | G18: =50+(10*F18) -> 63.741546
A19: 12 | B19: =กรอกคะแนน!B15 -> 84 | C19: =(B19-ข้อ2avg!$B$116)/ข้อ3sd!$B$122 -> -0.10083166 | D19: =50+(10*C19) -> 48.991683 | E19: =กรอกคะแนน!D15 -> 91 | F19: =(E19-ข้อ2avg!$B$116)/ข้อ3sd!$B$122 -> 1.3741546 | G19: =50+(10*F19) -> 63.741546
... A73: 66 | B73: =กรอกคะแนน!B69 -> 82 | C73: =(B73-ข้อ2avg!$B$116)/ข้อ3sd!$B$122 -> -0.5222563 | D73: =50+(10*C73) -> 44.777437 | E73: =กรอกคะแนน!D69 -> 87 | F73: =(E73-ข้อ2avg!$B$116)/ข้อ3sd!$B$122 -> 0.53130529 | G73: =50+(10*F73) -> 55.313053
A74: 67 | E74: =กรอกคะแนน!D70 -> 82 | F74: =(E74-ข้อ2avg!$B$116)/ข้อ3sd!$B$122 -> -0.5222563 | G74: =50+(10*F74) -> 44.777437
A75: 68 | E75: =กรอกคะแนน!D71 -> 83 | F75: =(E75-ข้อ2avg!$B$116)/ข้อ3sd!$B$122 -> -0.31154398 | G75: =50+(10*F75) -> 46.88456
A76: 69 | E76: =กรอกคะแนน!D72 -> 81 | F76: =(E76-ข้อ2avg!$B$116)/ข้อ3sd!$B$122 -> -0.73296862 | G76: =50+(10*F76) -> 42.670314
A77: 70 | E77: =กรอกคะแนน!D73 -> 82 | F77: =(E77-ข้อ2avg!$B$116)/ข้อ3sd!$B$122 -> -0.5222563 | G77: =50+(10*F77) -> 44.777437
A78: 71 | E78: =กรอกคะแนน!D74 -> 82 | F78: =(E78-ข้อ2avg!$B$116)/ข้อ3sd!$B$122 -> -0.5222563 | G78: =50+(10*F78) -> 44.777437
A79: 72 | E79: =กรอกคะแนน!D75 -> 83 | F79: =(E79-ข้อ2avg!$B$116)/ข้อ3sd!$B$122 -> -0.31154398 | G79: =50+(10*F79) -> 46.88456
A80: 73 | E80: =กรอกคะแนน!D76 -> 81 | F80: =(E80-ข้อ2avg!$B$116)/ข้อ3sd!$B$122 -> -0.73296862 | G80: =50+(10*F80) -> 42.670314
A81: 74 | E81: =กรอกคะแนน!D77 -> 82 | F81: =(E81-ข้อ2avg!$B$116)/ข้อ3sd!$B$122 -> -0.5222563 | G81: =50+(10*F81) -> 44.777437
A82: 75 | E82: =กรอกคะแนน!D78 -> 85 | F82: =(E82-ข้อ2avg!$B$116)/ข้อ3sd!$B$122 -> 0.10988066 | G82: =50+(10*F82) -> 51.098807
A83: 76 | E83: =กรอกคะแนน!D79 -> 81 | F83: =(E83-ข้อ2avg!$B$116)/ข้อ3sd!$B$122 -> -0.73296862 | G83: =50+(10*F83) -> 42.670314
A84: 77 | E84: =กรอกคะแนน!D80 -> 81 | F84: =(E84-ข้อ2avg!$B$116)/ข้อ3sd!$B$122 -> -0.73296862 | G84: =50+(10*F84) -> 42.670314
A85: 78 | E85: =กรอกคะแนน!D81 -> 83 | F85: =(E85-ข้อ2avg!$B$116)/ข้อ3sd!$B$122 -> -0.31154398 | G85: =50+(10*F85) -> 46.88456
... A104: 97 | E104: =กรอกคะแนน!D100 -> 87 | F104: =(E104-ข้อ2avg!$B$116)/ข้อ3sd!$B$122 -> 0.53130529 | G104: =50+(10*F104) -> 55.313053
A105: 98
A106: 99
A107: 100
A108: 101
A109: 102
A110: 103
A111: 104
A112: 105
A113: 106
A114: 107
A115: 108
A116: sum | D116: =SUM(D8:D115) -> 2782.5267 | G116: =SUM(G8:G115) -> 5367.4733
A117: avg | D117: =AVERAGE(D8:D115) -> 42.159496 | G117: =AVERAGE(G8:G115) -> 55.334776

Sheet ข้อ6
A2: ค่าทีเฉลี่ยก่อนเรียน | D2: =ข้อ5T!D117 -> 42.159496
A3: ค่าทีเฉลี่ยหลังเรียน | D3: =ข้อ5T!G117 -> 55.334776

Sheet ข้อ7
A3: ค่าแตกต่างคะแนนทีเฉลี่ย | D3: =ข้อ6!D3-ข้อ6!D2 -> 13.17528

Sheet ข้อ8
A2: ค่าร้อยละคะแนนที่เพิ่มขึ้น | D2: =(ข้อ7!D3*100)/ข้อ6!D2 -> 31.251037

Sheet สรุป
A1: ตารางสรุป (สรุปการหาคะแนนทีเฉลี่ย เพื่อนำมาแนบเสนอในภาคผนวกของแบบ ก.ค.ศ.3/1)
A4: การคำนวณหาคะแนนทีเฉลี่ย (Average T score)
A5: ของคะแนนผลสัมฤทธิ์ทางการเรียน ก่อนเรียน และหลังเรียน ภาคเรียนที่ .... ปีการศึกษา.......
A6: วิชา ............................................... รหัสวิชา.........................
A8: คะแนนก่อนเรียน | E8: คะแนนหลังเรียน
A9: เลขที่ | B9: คะแนน | C9: Z score | D9: T score | E9: เลขที่ | F9: คะแนน | G9: Z score | H9: T score
A10: =กรอกคะแนน!A4 -> 1 | B10: =กรอกคะแนน!B4 -> 82 | C10: =ข้อ4z!C8 -> -0.5222563 | D10: =ข้อ5T!D8 -> 44.777437 | E10: =กรอกคะแนน!A4 -> 1 | F10: =กรอกคะแนน!D4 -> 91 | G10: =ข้อ4z!E8 -> 1.3741546 | H10: =ข้อ5T!G8 -> 63.741546
A11: =กรอกคะแนน!A5 -> 2 | B11: =กรอกคะแนน!B5 -> 83 | C11: =ข้อ4z!C9 -> -0.31154398 | D11: =ข้อ5T!D9 -> 46.88456 | E11: =กรอกคะแนน!A5 -> 2 | F11: =กรอกคะแนน!D5 -> 91 | G11: =ข้อ4z!E9 -> 1.3741546 | H11: =ข้อ5T!G9 -> 63.741546
A12: =กรอกคะแนน!A6 -> 3 | B12: =กรอกคะแนน!B6 -> 83 | C12: =ข้อ4z!C10 -> -0.31154398 | D12: =ข้อ5T!D10 -> 46.88456 | E12: =กรอกคะแนน!A6 -> 3 | F12: =กรอกคะแนน!D6 -> 92 | G12: =ข้อ4z!E10 -> 1.5848669 | H12: =ข้อ5T!G10 -> 65.848669
A13: =กรอกคะแนน!A7 -> 4 | B13: =กรอกคะแนน!B7 -> 83 | C13: =ข้อ4z!C11 -> -0.31154398 | D13: =ข้อ5T!D11 -> 46.88456 | E13: =กรอกคะแนน!A7 -> 4 | F13: =กรอกคะแนน!D7 -> 89 | G13: =ข้อ4z!E11 -> 0.95272993 | H13: =ข้อ5T!G11 -> 59.527299
A14: =กรอกคะแนน!A8 -> 5 | B14: =กรอกคะแนน!B8 -> 81 | C14: =ข้อ4z!C12 -> -0.73296862 | D14: =ข้อ5T!D12 -> 42.670314 | E14: =กรอกคะแนน!A8 -> 5 | F14: =กรอกคะแนน!D8 -> 88 | G14: =ข้อ4z!E12 -> 0.74201761 | H14: =ข้อ5T!G12 -> 57.420176
A15: =กรอกคะแนน!A9 -> 6 | B15: =กรอกคะแนน!B9 -> 83 | C15: =ข้อ4z!C13 -> -0.31154398 | D15: =ข้อ5T!D13 -> 46.88456 | E15: =กรอกคะแนน!A9 -> 6 | F15: =กรอกคะแนน!D9 -> 90 | G15: =ข้อ4z!E13 -> 1.1634422 | H15: =ข้อ5T!G13 -> 61.634422
A16: =กรอกคะแนน!A10 -> 7 | B16: =กรอกคะแนน!B10 -> 81 | C16: =ข้อ4z!C14 -> -0.73296862 | D16: =ข้อ5T!D14 -> 42.670314 | E16: =กรอกคะแนน!A10 -> 7 | F16: =กรอกคะแนน!D10 -> 87 | G16: =ข้อ4z!E14 -> 0.53130529 | H16: =ข้อ5T!G14 -> 55.313053
A17: =กรอกคะแนน!A11 -> 8 | B17: =กรอกคะแนน!B11 -> 83 | C17: =ข้อ4z!C15 -> -0.31154398 | D17: =ข้อ5T!D15 -> 46.88456 | E17: =กรอกคะแนน!A11 -> 8 | F17: =กรอกคะแนน!D11 -> 91 | G17: =ข้อ4z!E15 -> 1.3741546 | H17: =ข้อ5T!G15 -> 63.741546
A18: =กรอกคะแนน!A12 -> 9 | B18: =กรอกคะแนน!B12 -> 82 | C18: =ข้อ4z!C16 -> -0.5222563 | D18: =ข้อ5T!D16 -> 44.777437 | E18: =กรอกคะแนน!A12 -> 9 | F18: =กรอกคะแนน!D12 -> 89 | G18: =ข้อ4z!E16 -> 0.95272993 | H18: =ข้อ5T!G16 -> 59.527299
A19: =กรอกคะแนน!A13 -> 10 | B19: =กรอกคะแนน!B13 -> 82 | C19: =ข้อ4z!C17 -> -0.5222563 | D19: =ข้อ5T!D17 -> 44.777437 | E19: =กรอกคะแนน!A13 -> 10 | F19: =กรอกคะแนน!D13 -> 87 | G19: =ข้อ4z!E17 -> 0.53130529 | H19: =ข้อ5T!G17 -> 55.313053
A20: =กรอกคะแนน!A14 -> 11 | B20: =กรอกคะแนน!B14 -> 82 | C20: =ข้อ4z!C18 -> -0.5222563 | D20: =ข้อ5T!D18 -> 44.777437 | E20: =กรอกคะแนน!A14 -> 11 | F20: =กรอกคะแนน!D14 -> 91 | G20: =ข้อ4z!E18 -> 1.3741546 | H20: =ข้อ5T!G18 -> 63.741546
A21: =กรอกคะแนน!A15 -> 12 | B21: =กรอกคะแนน!B15 -> 84 | C21: =ข้อ4z!C19 -> -0.10083166 | D21: =ข้อ5T!D19 -> 48.991683 | E21: =กรอกคะแนน!A15 -> 12 | F21: =กรอกคะแนน!D15 -> 91 | G21: =ข้อ4z!E19 -> 1.3741546 | H21: =ข้อ5T!G19 -> 63.741546
... A75: =กรอกคะแนน!A69 -> 66 | B75: =กรอกคะแนน!B69 -> 82 | C75: =ข้อ4z!C73 -> -0.5222563 | D75: =ข้อ5T!D73 -> 44.777437 | E75: =กรอกคะแนน!A69 -> 66 | F75: =กรอกคะแนน!D69 -> 87 | G75: =ข้อ4z!E73 -> 0.53130529 | H75: =ข้อ5T!G73 -> 55.313053
A76: =กรอกคะแนน!A70 -> 67 | E76: =กรอกคะแนน!A70 -> 67 | F76: =กรอกคะแนน!D70 -> 82 | G76: =ข้อ4z!E74 -> -0.5222563 | H76: =ข้อ5T!G74 -> 44.777437
A77: =กรอกคะแนน!A71 -> 68 | E77: =กรอกคะแนน!A71 -> 68 | F77: =กรอกคะแนน!D71 -> 83 | G77: =ข้อ4z!E75 -> -0.31154398 | H77: =ข้อ5T!G75 -> 46.88456
A78: =กรอกคะแนน!A72 -> 69 | E78: =กรอกคะแนน!A72 -> 69 | F78: =กรอกคะแนน!D72 -> 81 | G78: =ข้อ4z!E76 -> -0.73296862 | H78: =ข้อ5T!G76 -> 42.670314
A79: =กรอกคะแนน!A73 -> 70 | E79: =กรอกคะแนน!A73 -> 70 | F79: =กรอกคะแนน!D73 -> 82 | G79: =ข้อ4z!E77 -> -0.5222563 | H79: =ข้อ5T!G77 -> 44.777437
A80: =กรอกคะแนน!A74 -> 71 | E80: =กรอกคะแนน!A74 -> 71 | F80: =กรอกคะแนน!D74 -> 82 | G80: =ข้อ4z!E78 -> -0.5222563 | H80: =ข้อ5T!G78 -> 44.777437
A81: =กรอกคะแนน!A75 -> 72 | E81: =กรอกคะแนน!A75 -> 72 | F81: =กรอกคะแนน!D75 -> 83 | G81: =ข้อ4z!E79 -> -0.31154398 | H81: =ข้อ5T!G79 -> 46.88456
A82: =กรอกคะแนน!A76 -> 73 | E82: =กรอกคะแนน!A76 -> 73 | F82: =กรอกคะแนน!D76 -> 81 | G82: =ข้อ4z!E80 -> -0.73296862 | H82: =ข้อ5T!G80 -> 42.670314
A83: =กรอกคะแนน!A77 -> 74 | E83: =กรอกคะแนน!A77 -> 74 | F83: =กรอกคะแนน!D77 -> 82 | G83: =ข้อ4z!E81 -> -0.5222563 | H83: =ข้อ5T!G81 -> 44.777437
A84: =กรอกคะแนน!A78 -> 75 | E84: =กรอกคะแนน!A78 -> 75 | F84: =กรอกคะแนน!D78 -> 85 | G84: =ข้อ4z!E82 -> 0.10988066 | H84: =ข้อ5T!G82 -> 51.098807
A85: =กรอกคะแนน!A79 -> 76 | E85: =กรอกคะแนน!A79 -> 76 | F85: =กรอกคะแนน!D79 -> 81 | G85: =ข้อ4z!E83 -> -0.73296862 | H85: =ข้อ5T!G83 -> 42.670314
A86: =กรอกคะแนน!A80 -> 77 | E86: =กรอกคะแนน!A80 -> 77 | F86: =กรอกคะแนน!D80 -> 81 | G86: =ข้อ4z!E84 -> -0.73296862 | H86: =ข้อ5T!G84 -> 42.670314
A87: =กรอกคะแนน!A81 -> 78 | E87: =กรอกคะแนน!A81 -> 78 | F87: =กรอกคะแนน!D81 -> 83 | G87: =ข้อ4z!E85 -> -0.31154398 | H87: =ข้อ5T!G85 -> 46.88456
... A106: =กรอกคะแนน!A100 -> 97 | E106: =กรอกคะแนน!A100 -> 97 | F106: =กรอกคะแนน!D100 -> 87 | G106: =ข้อ4z!E104 -> 0.53130529 | H106: =ข้อ5T!G104 -> 55.313053
A107: =กรอกคะแนน!A101 -> 98 | E107: =กรอกคะแนน!A101 -> 98
A108: =กรอกคะแนน!A102 -> 99 | E108: =กรอกคะแนน!A102 -> 99
A109: =กรอกคะแนน!A103 -> 100 | E109: =กรอกคะแนน!A103 -> 100
A110: =กรอกคะแนน!A104 -> 101 | E110: =กรอกคะแนน!A104 -> 101
A111: =กรอกคะแนน!A105 -> 102 | E111: =กรอกคะแนน!A105 -> 102
A112: =กรอกคะแนน!A106 -> 103 | E112: =กรอกคะแนน!A106 -> 103
A113: =กรอกคะแนน!A107 -> 104 | E113: =กรอกคะแนน!A107 -> 104
A114: =กรอกคะแนน!A108 -> 105 | E114: =กรอกคะแนน!A108 -> 105
A115: =กรอกคะแนน!A109 -> 106 | E115: =กรอกคะแนน!A109 -> 106
A116: =กรอกคะแนน!A110 -> 107 | E116: =กรอกคะแนน!A110 -> 107
A117: ผลรวม | D117: =SUM(D10:D116) -> 2782.5267 | E117: ผลรวม | H117: =SUM(H10:H116) -> 5367.4733
A118: คะแนนทีเฉลี่ยก่อนเรียน | D118: =AVERAGE(D10:D116) -> 42.159496 | E118: คะแนนทีเฉลี่ยหลังเรียน | H118: =AVERAGE(H10:H116) -> 55.334776
B122: คะแนนทีเฉลี่ยก่อนเรียน | E122: = | F122: =D118 -> 42.159496
B123: คะแนนทีเฉลี่ยหลังเรียน | E123: = | F123: =H118 -> 55.334776
B124: คะแนนทีเฉลี่ยเพิ่มขึ้นร้อยละ | E124: = | F124: =(F123-F122)*100/F122 -> 31.251037
